Package: minet Version: 3.64.0 Command: /Library/Frameworks/R.framework/Resources/bin/R CMD INSTALL minet StartedAt: 2025-02-03 16:39:51 -0500 (Mon, 03 Feb 2025) EndedAt: 2025-02-03 16:40:05 -0500 (Mon, 03 Feb 2025) EllapsedTime: 14.2 seconds RetCode: 0 Status: OK