Package: minet Version: 3.64.0 Command: rm -rf minet.buildbin-libdir && mkdir minet.buildbin-libdir && F:\biocbuild\bbs-3.20-bioc\R\bin\R.exe CMD INSTALL --build --library=minet.buildbin-libdir minet_3.64.0.tar.gz StartedAt: 2025-02-04 08:55:59 -0500 (Tue, 04 Feb 2025) EndedAt: 2025-02-04 08:56:12 -0500 (Tue, 04 Feb 2025) EllapsedTime: 12.3 seconds RetCode: 0 Status: OK PackageFile: minet_3.64.0.zip PackageFileSize: 142.5 KiB