Package: minet
Version: 3.64.0
Command: /home/biocbuild/bbs-3.20-bioc/R/bin/R CMD build --keep-empty-dirs --no-resave-data minet
StartedAt: 2024-11-19 20:05:27 -0500 (Tue, 19 Nov 2024)
EndedAt: 2024-11-19 20:05:28 -0500 (Tue, 19 Nov 2024)
EllapsedTime: 1.0 seconds
RetCode: 0
Status: OK
PackageFile: minet_3.64.0.tar.gz
PackageFileSize: 50.13 <A href="http://en.wikipedia.org/wiki/KiB" target="_blank">KiB</A>