Package: mirIntegrator Version: 1.36.0 Command: /Library/Frameworks/R.framework/Resources/bin/R CMD build --keep-empty-dirs --no-resave-data mirIntegrator StartedAt: 2025-02-04 03:30:44 -0500 (Tue, 04 Feb 2025) EndedAt: 2025-02-04 03:32:06 -0500 (Tue, 04 Feb 2025) EllapsedTime: 82.0 seconds RetCode: 0 Status: OK PackageFile: mirIntegrator_1.36.0.tar.gz PackageFileSize: 1.808 MiB