Package: mirIntegrator Version: 1.36.0 Command: /Library/Frameworks/R.framework/Resources/bin/R CMD INSTALL mirIntegrator StartedAt: 2025-02-03 15:39:33 -0500 (Mon, 03 Feb 2025) EndedAt: 2025-02-03 15:39:43 -0500 (Mon, 03 Feb 2025) EllapsedTime: 9.9 seconds RetCode: 0 Status: OK