Package: mirIntegrator Version: 1.36.0 Command: rm -rf mirIntegrator.buildbin-libdir && mkdir mirIntegrator.buildbin-libdir && /Users/biocbuild/BBS/utils/build-universal.sh mirIntegrator_1.36.0.tar.gz /Library/Frameworks/R.framework/Resources/bin/R mirIntegrator.buildbin-libdir StartedAt: 2025-02-04 13:26:58 -0500 (Tue, 04 Feb 2025) EndedAt: 2025-02-04 13:27:53 -0500 (Tue, 04 Feb 2025) EllapsedTime: 54.6 seconds RetCode: 0 Status: OK PackageFile: mirIntegrator_1.36.0.tgz PackageFileSize: 1.843 MiB