Package: mirIntegrator Version: 1.36.0 Command: /Library/Frameworks/R.framework/Resources/bin/R CMD build --keep-empty-dirs --no-resave-data mirIntegrator StartedAt: 2025-02-03 20:21:11 -0500 (Mon, 03 Feb 2025) EndedAt: 2025-02-03 20:23:37 -0500 (Mon, 03 Feb 2025) EllapsedTime: 146.1 seconds RetCode: 0 Status: OK PackageFile: mirIntegrator_1.36.0.tar.gz PackageFileSize: 1.808 MiB