Package: mirIntegrator Version: 1.36.0 Command: /home/biocbuild/bbs-3.20-bioc/R/bin/R CMD INSTALL mirIntegrator StartedAt: 2025-02-03 15:25:09 -0500 (Mon, 03 Feb 2025) EndedAt: 2025-02-03 15:25:24 -0500 (Mon, 03 Feb 2025) EllapsedTime: 15.3 seconds RetCode: 0 Status: OK