Package: mirIntegrator Version: 1.36.0 Command: rm -rf mirIntegrator.buildbin-libdir && mkdir mirIntegrator.buildbin-libdir && F:\biocbuild\bbs-3.20-bioc\R\bin\R.exe CMD INSTALL --build --library=mirIntegrator.buildbin-libdir mirIntegrator_1.36.0.tar.gz StartedAt: 2025-02-04 08:56:30 -0500 (Tue, 04 Feb 2025) EndedAt: 2025-02-04 08:56:55 -0500 (Tue, 04 Feb 2025) EllapsedTime: 25.1 seconds RetCode: 0 Status: OK PackageFile: mirIntegrator_1.36.0.zip PackageFileSize: 1.713 MiB