Package: mirIntegrator Version: 1.36.0 Command: chmod a+r mirIntegrator -R && F:\biocbuild\bbs-3.20-bioc\R\bin\R.exe CMD build --keep-empty-dirs --no-resave-data mirIntegrator StartedAt: 2025-02-03 20:24:09 -0500 (Mon, 03 Feb 2025) EndedAt: 2025-02-03 20:25:35 -0500 (Mon, 03 Feb 2025) EllapsedTime: 86.1 seconds RetCode: 0 Status: OK PackageFile: mirIntegrator_1.36.0.tar.gz PackageFileSize: 1.673 MiB