Package: mirTarRnaSeq Version: 1.14.0 Command: rm -rf mirTarRnaSeq.buildbin-libdir && mkdir mirTarRnaSeq.buildbin-libdir && /Users/biocbuild/BBS/utils/build-universal.sh mirTarRnaSeq_1.14.0.tar.gz /Library/Frameworks/R.framework/Resources/bin/R mirTarRnaSeq.buildbin-libdir StartedAt: 2024-11-09 16:59:17 -0500 (Sat, 09 Nov 2024) EndedAt: 2024-11-09 16:59:21 -0500 (Sat, 09 Nov 2024) EllapsedTime: 4.1 seconds RetCode: 0 Status: OK PackageFile: mirTarRnaSeq_1.14.0.tgz PackageFileSize: 4.585 MiB