Package: mirTarRnaSeq
Version: 1.14.0
Command: /Library/Frameworks/R.framework/Resources/bin/R CMD check --install=check:mirTarRnaSeq.install-out.txt --library=/Library/Frameworks/R.framework/Resources/library --no-vignettes --timings mirTarRnaSeq_1.14.0.tar.gz
StartedAt: 2024-11-09 07:22:30 -0500 (Sat, 09 Nov 2024)
EndedAt: 2024-11-09 07:26:34 -0500 (Sat, 09 Nov 2024)
EllapsedTime: 244.3 seconds
RetCode: 0
Status: OK
CheckDir: mirTarRnaSeq.Rcheck
Warnings: 0