Package: mirTarRnaSeq Version: 1.14.0 Command: /home/biocbuild/bbs-3.20-bioc/R/bin/R CMD build --keep-empty-dirs --no-resave-data --md5 mirTarRnaSeq StartedAt: 2025-02-03 18:15:23 -0500 (Mon, 03 Feb 2025) EndedAt: 2025-02-03 18:18:14 -0500 (Mon, 03 Feb 2025) EllapsedTime: 171.2 seconds RetCode: 0 Status: OK PackageFile: mirTarRnaSeq_1.14.0.tar.gz PackageFileSize: 3.432 MiB