Package: mirTarRnaSeq Version: 1.14.0 Command: /home/biocbuild/R/R/bin/R CMD build --keep-empty-dirs --no-resave-data mirTarRnaSeq StartedAt: 2025-02-18 00:59:09 -0000 (Tue, 18 Feb 2025) EndedAt: 2025-02-18 01:03:16 -0000 (Tue, 18 Feb 2025) EllapsedTime: 246.1 seconds RetCode: 0 Status: OK PackageFile: mirTarRnaSeq_1.14.0.tar.gz PackageFileSize: 3.422 <A href="http://en.wikipedia.org/wiki/MiB" target="_blank">MiB</A>