Package: missMethyl Version: 1.40.0 Command: /Library/Frameworks/R.framework/Resources/bin/R CMD build --keep-empty-dirs --no-resave-data missMethyl StartedAt: 2025-02-04 03:32:20 -0500 (Tue, 04 Feb 2025) EndedAt: 2025-02-04 03:56:29 -0500 (Tue, 04 Feb 2025) EllapsedTime: 1448.6 seconds RetCode: 0 Status: OK PackageFile: missMethyl_1.40.0.tar.gz PackageFileSize: 1.501 MiB