Package: missMethyl Version: 1.40.0 Command: rm -rf missMethyl.buildbin-libdir && mkdir missMethyl.buildbin-libdir && /Users/biocbuild/BBS/utils/build-universal.sh missMethyl_1.40.0.tar.gz /Library/Frameworks/R.framework/Resources/bin/R missMethyl.buildbin-libdir StartedAt: 2025-02-04 13:27:32 -0500 (Tue, 04 Feb 2025) EndedAt: 2025-02-04 13:41:23 -0500 (Tue, 04 Feb 2025) EllapsedTime: 830.8 seconds RetCode: 0 Status: OK PackageFile: missMethyl_1.40.0.tgz PackageFileSize: 1.612 MiB