Package: missMethyl Version: 1.40.0 Command: /Library/Frameworks/R.framework/Resources/bin/R CMD check --install=check:missMethyl.install-out.txt --library=/Library/Frameworks/R.framework/Resources/library --no-vignettes --timings missMethyl_1.40.0.tar.gz StartedAt: 2025-02-04 06:29:57 -0500 (Tue, 04 Feb 2025) EndedAt: 2025-02-04 07:04:49 -0500 (Tue, 04 Feb 2025) EllapsedTime: 2092.3 seconds RetCode: 0 Status: WARNINGS CheckDir: missMethyl.Rcheck Warnings: 1