Package: missMethyl Version: 1.40.0 Command: /home/biocbuild/R/R/bin/R CMD build --keep-empty-dirs --no-resave-data missMethyl StartedAt: 2025-02-04 01:01:28 -0000 (Tue, 04 Feb 2025) EndedAt: 2025-02-04 01:21:42 -0000 (Tue, 04 Feb 2025) EllapsedTime: 1213.6 seconds RetCode: 0 Status: OK PackageFile: missMethyl_1.40.0.tar.gz PackageFileSize: 786.4 KiB