Package: mistyR Version: 1.14.0 Command: rm -rf mistyR.buildbin-libdir && mkdir mistyR.buildbin-libdir && F:\biocbuild\bbs-3.20-bioc\R\bin\R.exe CMD INSTALL --build --library=mistyR.buildbin-libdir mistyR_1.14.0.tar.gz StartedAt: 2025-02-04 08:57:06 -0500 (Tue, 04 Feb 2025) EndedAt: 2025-02-04 08:57:21 -0500 (Tue, 04 Feb 2025) EllapsedTime: 15.3 seconds RetCode: 0 Status: OK PackageFile: mistyR_1.14.0.zip PackageFileSize: 2.895 MiB