Package: mistyR Version: 1.14.0 Command: /home/biocbuild/R/R/bin/R CMD build --keep-empty-dirs --no-resave-data mistyR StartedAt: 2025-02-04 01:01:47 -0000 (Tue, 04 Feb 2025) EndedAt: 2025-02-04 01:04:27 -0000 (Tue, 04 Feb 2025) EllapsedTime: 159.1 seconds RetCode: 0 Status: OK PackageFile: mistyR_1.14.0.tar.gz PackageFileSize: 2.866 MiB