Package: mistyR Version: 1.14.0 Command: /home/biocbuild/R/R/bin/R CMD INSTALL mistyR StartedAt: 2025-02-03 21:13:05 -0000 (Mon, 03 Feb 2025) EndedAt: 2025-02-03 21:13:12 -0000 (Mon, 03 Feb 2025) EllapsedTime: 6.3 seconds RetCode: 0 Status: OK