Package: mitch Version: 1.18.4 Command: /Library/Frameworks/R.framework/Resources/bin/R CMD build --keep-empty-dirs --no-resave-data mitch StartedAt: 2025-02-04 03:36:06 -0500 (Tue, 04 Feb 2025) EndedAt: 2025-02-04 03:42:32 -0500 (Tue, 04 Feb 2025) EllapsedTime: 386.6 seconds RetCode: 0 Status: OK PackageFile: mitch_1.18.4.tar.gz PackageFileSize: 995.9 KiB