Package: mitch Version: 1.18.4 Command: /Library/Frameworks/R.framework/Resources/bin/R CMD check --install=check:mitch.install-out.txt --library=/Library/Frameworks/R.framework/Resources/library --no-vignettes --timings mitch_1.18.4.tar.gz StartedAt: 2025-02-05 02:13:53 -0500 (Wed, 05 Feb 2025) EndedAt: 2025-02-05 02:17:45 -0500 (Wed, 05 Feb 2025) EllapsedTime: 232.1 seconds RetCode: 0 Status: OK CheckDir: mitch.Rcheck Warnings: 0