Package: mitch Version: 1.18.4 Command: /Library/Frameworks/R.framework/Resources/bin/R CMD build --keep-empty-dirs --no-resave-data mitch StartedAt: 2025-02-03 20:22:55 -0500 (Mon, 03 Feb 2025) EndedAt: 2025-02-03 20:34:55 -0500 (Mon, 03 Feb 2025) EllapsedTime: 719.8 seconds RetCode: 0 Status: OK PackageFile: mitch_1.18.4.tar.gz PackageFileSize: 995.7 KiB