Package: mitch
Version: 1.17.1
Command: F:\biocbuild\bbs-3.20-bioc\R\bin\R.exe CMD INSTALL mitch
StartedAt: 2024-06-09 16:19:17 -0400 (Sun, 09 Jun 2024)
EndedAt: 2024-06-09 16:19:32 -0400 (Sun, 09 Jun 2024)
EllapsedTime: 15.3 seconds
RetCode: 0
Status: OK