Package: mitoClone2 Version: 1.12.0 Command: /Library/Frameworks/R.framework/Resources/bin/R CMD build --keep-empty-dirs --no-resave-data mitoClone2 StartedAt: 2025-02-03 20:23:12 -0500 (Mon, 03 Feb 2025) EndedAt: 2025-02-03 20:35:58 -0500 (Mon, 03 Feb 2025) EllapsedTime: 766.1 seconds RetCode: 0 Status: OK PackageFile: mitoClone2_1.12.0.tar.gz PackageFileSize: 1.444 MiB