Package: mitoClone2 Version: 1.12.0 Command: /home/biocbuild/bbs-3.20-bioc/R/bin/R CMD check --install=check:mitoClone2.install-out.txt --library=/home/biocbuild/bbs-3.20-bioc/R/site-library --timings mitoClone2_1.12.0.tar.gz StartedAt: 2025-02-04 00:14:23 -0500 (Tue, 04 Feb 2025) EndedAt: 2025-02-04 00:24:03 -0500 (Tue, 04 Feb 2025) EllapsedTime: 579.6 seconds RetCode: 0 Status: WARNINGS CheckDir: mitoClone2.Rcheck Warnings: 2