Package: mixOmics Version: 6.30.0 Command: rm -rf mixOmics.buildbin-libdir && mkdir mixOmics.buildbin-libdir && /Users/biocbuild/BBS/utils/build-universal.sh mixOmics_6.30.0.tar.gz /Library/Frameworks/R.framework/Resources/bin/R mixOmics.buildbin-libdir StartedAt: 2025-02-05 16:42:25 -0500 (Wed, 05 Feb 2025) EndedAt: 2025-02-05 16:43:07 -0500 (Wed, 05 Feb 2025) EllapsedTime: 41.1 seconds RetCode: 0 Status: OK PackageFile: mixOmics_6.30.0.tgz PackageFileSize: 18 MiB