Package: mixOmics Version: 6.30.0 Command: /Library/Frameworks/R.framework/Resources/bin/R CMD build --keep-empty-dirs --no-resave-data mixOmics StartedAt: 2025-02-04 03:38:54 -0500 (Tue, 04 Feb 2025) EndedAt: 2025-02-04 03:49:09 -0500 (Tue, 04 Feb 2025) EllapsedTime: 615.4 seconds RetCode: 0 Status: OK PackageFile: mixOmics_6.30.0.tar.gz PackageFileSize: 18.26 MiB