Package: mixOmics Version: 6.30.0 Command: /Library/Frameworks/R.framework/Resources/bin/R CMD INSTALL mixOmics StartedAt: 2025-02-03 16:31:05 -0500 (Mon, 03 Feb 2025) EndedAt: 2025-02-03 16:31:39 -0500 (Mon, 03 Feb 2025) EllapsedTime: 34.0 seconds RetCode: 0 Status: OK