############################################################################## ############################################################################## ### ### Running command: ### ### /home/biocbuild/R/R/bin/R CMD check --install=check:mixOmics.install-out.txt --library=/home/biocbuild/R/R/site-library --no-vignettes --timings mixOmics_6.30.0.tar.gz ### ############################################################################## ############################################################################## * using log directory ‘/home/biocbuild/bbs-3.20-bioc/meat/mixOmics.Rcheck’ * using R version 4.4.1 (2024-06-14) * using platform: aarch64-unknown-linux-gnu * R was compiled by gcc (GCC) 12.2.1 20220819 (openEuler 12.2.1-14) GNU Fortran (GCC) 10.3.1 * running under: openEuler 22.03 (LTS-SP1) * using session charset: UTF-8 * using option ‘--no-vignettes’ * checking for file ‘mixOmics/DESCRIPTION’ ... OK * checking extension type ... Package * this is package ‘mixOmics’ version ‘6.30.0’ * package encoding: UTF-8 * checking package namespace information ... OK * checking package dependencies ... OK * checking if this is a source package ... OK * checking if there is a namespace ... OK * checking for hidden files and directories ... OK * checking for portable file names ... OK * checking for sufficient/correct file permissions ... OK * checking whether package ‘mixOmics’ can be installed ... OK * checking installed package size ... NOTE installed size is 6.3Mb sub-directories of 1Mb or more: R 1.4Mb data 3.3Mb * checking package directory ... OK * checking DESCRIPTION meta-information ... OK * checking top-level files ... OK * checking for left-over files ... OK * checking index information ... OK * checking package subdirectories ... OK * checking code files for non-ASCII characters ... OK * checking R files for syntax errors ... OK * checking whether the package can be loaded ... OK * checking whether the package can be loaded with stated dependencies ... OK * checking whether the package can be unloaded cleanly ... OK * checking whether the namespace can be loaded with stated dependencies ... OK * checking whether the namespace can be unloaded cleanly ... OK * checking loading without being on the library search path ... OK * checking whether startup messages can be suppressed ... OK * checking dependencies in R code ... NOTE Namespace in Imports field not imported from: ‘gsignal’ All declared Imports should be used. * checking S3 generic/method consistency ... OK * checking replacement functions ... OK * checking foreign function calls ... OK * checking R code for possible problems ... OK * checking Rd files ... OK * checking Rd metadata ... OK * checking Rd cross-references ... OK * checking for missing documentation entries ... OK * checking for code/documentation mismatches ... OK * checking Rd \usage sections ... OK * checking Rd contents ... OK * checking for unstated dependencies in examples ... OK * checking contents of ‘data’ directory ... OK * checking data for non-ASCII characters ... OK * checking data for ASCII and uncompressed saves ... OK * checking files in ‘vignettes’ ... OK * checking examples ... OK Examples with CPU (user + system) or elapsed time > 5s user system elapsed image.tune.rcc 29.040 0.024 14.587 tune.rcc 28.836 0.124 14.498 biplot 18.044 0.192 18.274 background.predict 11.405 0.143 11.628 block.splsda 9.608 0.052 9.680 circosPlot 8.598 0.100 8.721 perf 8.171 0.040 5.988 block.spls 7.615 0.091 7.723 tune.splsda 6.522 0.108 6.643 tune 6.530 0.010 6.490 pca 6.171 0.028 5.958 plotArrow 5.486 0.012 5.228 spca 5.224 0.027 4.115 * checking for unstated dependencies in ‘tests’ ... OK * checking tests ... Running ‘testthat.R’ ERROR Running the tests in ‘tests/testthat.R’ failed. Last 13 lines of output: ── Failure ('test-plotIndiv.R:83:3'): plotIndiv works for sgcca and rgcca ────── round(numeric_value, digits = digits) not equal to round(expected, digits = digits). 1/1 mismatches [1] 0.11 - 3.32 == -3.21 Backtrace: ▆ 1. └─mixOmics:::.expect_numerically_close(...) at test-plotIndiv.R:83:3 2. └─testthat::expect_equal(...) at tests/testthat/helpers.R:25:5 [ FAIL 1 | WARN 0 | SKIP 0 | PASS 235 ] Error: Test failures In addition: Warning messages: 1: In dimnames(x) <- dn : closing unused connection 6 (<-localhost:11506) 2: In dimnames(x) <- dn : closing unused connection 5 (<-localhost:11506) Execution halted * checking for unstated dependencies in vignettes ... OK * checking package vignettes ... OK * checking running R code from vignettes ... SKIPPED * checking re-building of vignette outputs ... SKIPPED * checking PDF version of manual ... OK * DONE Status: 1 ERROR, 2 NOTEs See ‘/home/biocbuild/bbs-3.20-bioc/meat/mixOmics.Rcheck/00check.log’ for details.