Package: mixOmics Version: 6.30.0 Command: /Library/Frameworks/R.framework/Resources/bin/R CMD build --keep-empty-dirs --no-resave-data mixOmics StartedAt: 2025-02-03 20:23:32 -0500 (Mon, 03 Feb 2025) EndedAt: 2025-02-03 20:46:00 -0500 (Mon, 03 Feb 2025) EllapsedTime: 1348.3 seconds RetCode: 0 Status: OK PackageFile: mixOmics_6.30.0.tar.gz PackageFileSize: 18.4 MiB