Package: mixOmics Version: 6.30.0 Command: /home/biocbuild/bbs-3.20-bioc/R/bin/R CMD build --keep-empty-dirs --no-resave-data --md5 mixOmics StartedAt: 2025-02-03 18:15:59 -0500 (Mon, 03 Feb 2025) EndedAt: 2025-02-03 18:24:23 -0500 (Mon, 03 Feb 2025) EllapsedTime: 504.5 seconds RetCode: 0 Status: OK PackageFile: mixOmics_6.30.0.tar.gz PackageFileSize: 17.57 MiB