Package: mixOmics Version: 6.30.0 Command: /home/biocbuild/bbs-3.20-bioc/R/bin/R CMD INSTALL mixOmics StartedAt: 2025-02-03 15:39:03 -0500 (Mon, 03 Feb 2025) EndedAt: 2025-02-03 15:39:32 -0500 (Mon, 03 Feb 2025) EllapsedTime: 29.1 seconds RetCode: 0 Status: OK