Package: mixOmics Version: 6.30.0 Command: chmod a+r mixOmics -R && F:\biocbuild\bbs-3.20-bioc\R\bin\R.exe CMD build --keep-empty-dirs --no-resave-data mixOmics StartedAt: 2025-02-03 20:25:52 -0500 (Mon, 03 Feb 2025) EndedAt: 2025-02-03 20:39:15 -0500 (Mon, 03 Feb 2025) EllapsedTime: 803.4 seconds RetCode: 0 Status: OK PackageFile: mixOmics_6.30.0.tar.gz PackageFileSize: 10.12 MiB