Package: mixOmics Version: 6.30.0 Command: /home/biocbuild/R/R/bin/R CMD build --keep-empty-dirs --no-resave-data mixOmics StartedAt: 2025-02-04 01:01:55 -0000 (Tue, 04 Feb 2025) EndedAt: 2025-02-04 01:16:27 -0000 (Tue, 04 Feb 2025) EllapsedTime: 871.4 seconds RetCode: 0 Status: OK PackageFile: mixOmics_6.30.0.tar.gz PackageFileSize: 11.06 MiB