Package: mixOmics Version: 6.30.0 Command: /home/biocbuild/R/R/bin/R CMD check --install=check:mixOmics.install-out.txt --library=/home/biocbuild/R/R/site-library --no-vignettes --timings mixOmics_6.30.0.tar.gz StartedAt: 2025-02-04 08:53:54 -0000 (Tue, 04 Feb 2025) EndedAt: 2025-02-04 09:04:23 -0000 (Tue, 04 Feb 2025) EllapsedTime: 628.8 seconds RetCode: 0 Status: OK CheckDir: mixOmics.Rcheck Warnings: 0