Package: mixOmics Version: 6.30.0 Command: /home/biocbuild/R/R/bin/R CMD INSTALL mixOmics StartedAt: 2025-02-03 20:53:31 -0000 (Mon, 03 Feb 2025) EndedAt: 2025-02-03 20:54:14 -0000 (Mon, 03 Feb 2025) EllapsedTime: 42.7 seconds RetCode: 0 Status: OK