Package: mnem Version: 1.22.0 Command: /Library/Frameworks/R.framework/Resources/bin/R CMD build --keep-empty-dirs --no-resave-data mnem StartedAt: 2025-01-31 03:41:48 -0500 (Fri, 31 Jan 2025) EndedAt: 2025-01-31 03:43:00 -0500 (Fri, 31 Jan 2025) EllapsedTime: 72.0 seconds RetCode: 0 Status: OK PackageFile: mnem_1.22.0.tar.gz PackageFileSize: 4.797 MiB