Package: mnem Version: 1.22.0 Command: /Library/Frameworks/R.framework/Resources/bin/R CMD INSTALL mnem StartedAt: 2025-01-30 17:46:13 -0500 (Thu, 30 Jan 2025) EndedAt: 2025-01-30 17:46:47 -0500 (Thu, 30 Jan 2025) EllapsedTime: 34.2 seconds RetCode: 0 Status: OK