Package: mnem Version: 1.22.0 Command: /Library/Frameworks/R.framework/Resources/bin/R CMD check --install=check:mnem.install-out.txt --library=/Library/Frameworks/R.framework/Resources/library --no-vignettes --timings mnem_1.22.0.tar.gz StartedAt: 2025-01-31 06:39:49 -0500 (Fri, 31 Jan 2025) EndedAt: 2025-01-31 06:44:02 -0500 (Fri, 31 Jan 2025) EllapsedTime: 253.3 seconds RetCode: 0 Status: OK CheckDir: mnem.Rcheck Warnings: 0