Package: mnem Version: 1.22.0 Command: /home/biocbuild/R/R/bin/R CMD build --keep-empty-dirs --no-resave-data mnem StartedAt: 2025-01-31 01:00:19 -0000 (Fri, 31 Jan 2025) EndedAt: 2025-01-31 01:01:49 -0000 (Fri, 31 Jan 2025) EllapsedTime: 90.0 seconds RetCode: 0 Status: OK PackageFile: mnem_1.22.0.tar.gz PackageFileSize: 3.172 MiB