Package: moanin Version: 1.14.0 Command: rm -rf moanin.buildbin-libdir && mkdir moanin.buildbin-libdir && /Users/biocbuild/BBS/utils/build-universal.sh moanin_1.14.0.tar.gz /Library/Frameworks/R.framework/Resources/bin/R moanin.buildbin-libdir StartedAt: 2025-02-04 13:28:14 -0500 (Tue, 04 Feb 2025) EndedAt: 2025-02-04 13:30:15 -0500 (Tue, 04 Feb 2025) EllapsedTime: 121.6 seconds RetCode: 0 Status: OK PackageFile: moanin_1.14.0.tgz PackageFileSize: 998.4 KiB