Package: moanin Version: 1.14.0 Command: /home/biocbuild/R/R/bin/R CMD INSTALL moanin StartedAt: 2025-02-03 20:46:20 -0000 (Mon, 03 Feb 2025) EndedAt: 2025-02-03 20:47:01 -0000 (Mon, 03 Feb 2025) EllapsedTime: 41.2 seconds RetCode: 0 Status: OK