Package: mobileRNA
Version: 1.2.0
Command: rm -rf mobileRNA.buildbin-libdir && mkdir mobileRNA.buildbin-libdir && /Users/biocbuild/BBS/utils/build-universal.sh mobileRNA_1.2.0.tar.gz /Library/Frameworks/R.framework/Resources/bin/R mobileRNA.buildbin-libdir
StartedAt: 2024-11-09 16:59:35 -0500 (Sat, 09 Nov 2024)
EndedAt: 2024-11-09 16:59:50 -0500 (Sat, 09 Nov 2024)
EllapsedTime: 15.2 seconds
RetCode: 0
Status: OK
PackageFile: mobileRNA_1.2.0.tgz
PackageFileSize: 3.359 <A href="http://en.wikipedia.org/wiki/MiB" target="_blank">MiB</A>