Package: mobileRNA Version: 1.2.0 Command: /Library/Frameworks/R.framework/Resources/bin/R CMD INSTALL mobileRNA StartedAt: 2025-02-03 16:13:40 -0500 (Mon, 03 Feb 2025) EndedAt: 2025-02-03 16:15:02 -0500 (Mon, 03 Feb 2025) EllapsedTime: 82.4 seconds RetCode: 0 Status: OK