Package: mobileRNA Version: 1.2.0 Command: /home/biocbuild/bbs-3.20-bioc/R/bin/R CMD build --keep-empty-dirs --no-resave-data --md5 mobileRNA StartedAt: 2025-02-03 18:17:21 -0500 (Mon, 03 Feb 2025) EndedAt: 2025-02-03 18:18:51 -0500 (Mon, 03 Feb 2025) EllapsedTime: 90.1 seconds RetCode: 0 Status: OK PackageFile: mobileRNA_1.2.0.tar.gz PackageFileSize: 3.263 MiB