Package: mobileRNA Version: 1.2.0 Command: /home/biocbuild/bbs-3.20-bioc/R/bin/R CMD check --install=check:mobileRNA.install-out.txt --library=/home/biocbuild/bbs-3.20-bioc/R/site-library --timings mobileRNA_1.2.0.tar.gz StartedAt: 2025-02-04 00:16:27 -0500 (Tue, 04 Feb 2025) EndedAt: 2025-02-04 00:22:04 -0500 (Tue, 04 Feb 2025) EllapsedTime: 337.3 seconds RetCode: 0 Status: OK CheckDir: mobileRNA.Rcheck Warnings: 0