Package: mobileRNA Version: 1.2.0 Command: /home/biocbuild/R/R/bin/R CMD INSTALL mobileRNA StartedAt: 2025-02-03 21:02:27 -0000 (Mon, 03 Feb 2025) EndedAt: 2025-02-03 21:03:13 -0000 (Mon, 03 Feb 2025) EllapsedTime: 45.9 seconds RetCode: 0 Status: OK