Package: mogsa Version: 1.40.0 Command: /home/biocbuild/bbs-3.20-bioc/R/bin/R CMD build --keep-empty-dirs --no-resave-data --md5 mogsa StartedAt: 2025-02-03 18:18:11 -0500 (Mon, 03 Feb 2025) EndedAt: 2025-02-03 18:20:20 -0500 (Mon, 03 Feb 2025) EllapsedTime: 129.2 seconds RetCode: 0 Status: OK PackageFile: mogsa_1.40.0.tar.gz PackageFileSize: 778.8 KiB